BEGIN:VCALENDAR
VERSION:2.0
PRODID:-//Thrive Community Coalition - ECPv6.15.20//NONSGML v1.0//EN
CALSCALE:GREGORIAN
METHOD:PUBLISH
X-WR-CALNAME:Thrive Community Coalition
X-ORIGINAL-URL:https://www.thriveserves.com
X-WR-CALDESC:Events for Thrive Community Coalition
REFRESH-INTERVAL;VALUE=DURATION:PT1H
X-Robots-Tag:noindex
X-PUBLISHED-TTL:PT1H
BEGIN:VTIMEZONE
TZID:UTC
BEGIN:STANDARD
TZOFFSETFROM:+0000
TZOFFSETTO:+0000
TZNAME:UTC
DTSTART:20250101T000000
END:STANDARD
END:VTIMEZONE
BEGIN:VEVENT
DTSTART;TZID=UTC:20260918T140000
DTEND;TZID=UTC:20260918T140000
DTSTAMP:20260426T024654
CREATED:20251029T184632Z
LAST-MODIFIED:20260409T155521Z
UID:10001103-1789740000-1789740000@www.thriveserves.com
SUMMARY:Wellness Works Support Group
DESCRIPTION:
URL:https://www.thriveserves.com/event/wellness-works-support-group/2026-09-18/
LOCATION:Warfield Community Center\, 113 Hode Road\, Warfield\, Kentucky\, 41267
END:VEVENT
BEGIN:VEVENT
DTSTART;TZID=UTC:20260925T140000
DTEND;TZID=UTC:20260925T140000
DTSTAMP:20260426T024654
CREATED:20251029T184632Z
LAST-MODIFIED:20260409T155521Z
UID:10001104-1790344800-1790344800@www.thriveserves.com
SUMMARY:Wellness Works Support Group
DESCRIPTION:
URL:https://www.thriveserves.com/event/wellness-works-support-group/2026-09-25/
LOCATION:Warfield Community Center\, 113 Hode Road\, Warfield\, Kentucky\, 41267
END:VEVENT
BEGIN:VEVENT
DTSTART;TZID=UTC:20261002T140000
DTEND;TZID=UTC:20261002T140000
DTSTAMP:20260426T024654
CREATED:20251029T184632Z
LAST-MODIFIED:20260409T155521Z
UID:10001105-1790949600-1790949600@www.thriveserves.com
SUMMARY:Wellness Works Support Group
DESCRIPTION:
URL:https://www.thriveserves.com/event/wellness-works-support-group/2026-10-02/
LOCATION:Warfield Community Center\, 113 Hode Road\, Warfield\, Kentucky\, 41267
END:VEVENT
BEGIN:VEVENT
DTSTART;TZID=UTC:20261009T140000
DTEND;TZID=UTC:20261009T140000
DTSTAMP:20260426T024654
CREATED:20251029T184632Z
LAST-MODIFIED:20260409T155521Z
UID:10001106-1791554400-1791554400@www.thriveserves.com
SUMMARY:Wellness Works Support Group
DESCRIPTION:
URL:https://www.thriveserves.com/event/wellness-works-support-group/2026-10-09/
LOCATION:Warfield Community Center\, 113 Hode Road\, Warfield\, Kentucky\, 41267
END:VEVENT
BEGIN:VEVENT
DTSTART;TZID=UTC:20261016T140000
DTEND;TZID=UTC:20261016T140000
DTSTAMP:20260426T024654
CREATED:20251029T184632Z
LAST-MODIFIED:20260409T155521Z
UID:10001107-1792159200-1792159200@www.thriveserves.com
SUMMARY:Wellness Works Support Group
DESCRIPTION:
URL:https://www.thriveserves.com/event/wellness-works-support-group/2026-10-16/
LOCATION:Warfield Community Center\, 113 Hode Road\, Warfield\, Kentucky\, 41267
END:VEVENT
BEGIN:VEVENT
DTSTART;TZID=UTC:20261023T140000
DTEND;TZID=UTC:20261023T140000
DTSTAMP:20260426T024654
CREATED:20251029T184632Z
LAST-MODIFIED:20260409T155521Z
UID:10001108-1792764000-1792764000@www.thriveserves.com
SUMMARY:Wellness Works Support Group
DESCRIPTION:
URL:https://www.thriveserves.com/event/wellness-works-support-group/2026-10-23/
LOCATION:Warfield Community Center\, 113 Hode Road\, Warfield\, Kentucky\, 41267
END:VEVENT
BEGIN:VEVENT
DTSTART;TZID=UTC:20261030T140000
DTEND;TZID=UTC:20261030T140000
DTSTAMP:20260426T024654
CREATED:20251029T184632Z
LAST-MODIFIED:20260409T155521Z
UID:10001109-1793368800-1793368800@www.thriveserves.com
SUMMARY:Wellness Works Support Group
DESCRIPTION:
URL:https://www.thriveserves.com/event/wellness-works-support-group/2026-10-30/
LOCATION:Warfield Community Center\, 113 Hode Road\, Warfield\, Kentucky\, 41267
END:VEVENT
BEGIN:VEVENT
DTSTART;TZID=UTC:20261106T140000
DTEND;TZID=UTC:20261106T140000
DTSTAMP:20260426T024654
CREATED:20251029T184632Z
LAST-MODIFIED:20260409T155521Z
UID:10001110-1793973600-1793973600@www.thriveserves.com
SUMMARY:Wellness Works Support Group
DESCRIPTION:
URL:https://www.thriveserves.com/event/wellness-works-support-group/2026-11-06/
LOCATION:Warfield Community Center\, 113 Hode Road\, Warfield\, Kentucky\, 41267
END:VEVENT
BEGIN:VEVENT
DTSTART;TZID=UTC:20261113T140000
DTEND;TZID=UTC:20261113T140000
DTSTAMP:20260426T024654
CREATED:20251029T184632Z
LAST-MODIFIED:20260409T155521Z
UID:10001111-1794578400-1794578400@www.thriveserves.com
SUMMARY:Wellness Works Support Group
DESCRIPTION:
URL:https://www.thriveserves.com/event/wellness-works-support-group/2026-11-13/
LOCATION:Warfield Community Center\, 113 Hode Road\, Warfield\, Kentucky\, 41267
END:VEVENT
BEGIN:VEVENT
DTSTART;TZID=UTC:20261120T140000
DTEND;TZID=UTC:20261120T140000
DTSTAMP:20260426T024654
CREATED:20251029T184632Z
LAST-MODIFIED:20260409T155521Z
UID:10001112-1795183200-1795183200@www.thriveserves.com
SUMMARY:Wellness Works Support Group
DESCRIPTION:
URL:https://www.thriveserves.com/event/wellness-works-support-group/2026-11-20/
LOCATION:Warfield Community Center\, 113 Hode Road\, Warfield\, Kentucky\, 41267
END:VEVENT
BEGIN:VEVENT
DTSTART;TZID=UTC:20261127T140000
DTEND;TZID=UTC:20261127T140000
DTSTAMP:20260426T024654
CREATED:20251029T184632Z
LAST-MODIFIED:20260409T155521Z
UID:10001113-1795788000-1795788000@www.thriveserves.com
SUMMARY:Wellness Works Support Group
DESCRIPTION:
URL:https://www.thriveserves.com/event/wellness-works-support-group/2026-11-27/
LOCATION:Warfield Community Center\, 113 Hode Road\, Warfield\, Kentucky\, 41267
END:VEVENT
BEGIN:VEVENT
DTSTART;TZID=UTC:20261204T140000
DTEND;TZID=UTC:20261204T140000
DTSTAMP:20260426T024654
CREATED:20251029T184632Z
LAST-MODIFIED:20260409T155521Z
UID:10001114-1796392800-1796392800@www.thriveserves.com
SUMMARY:Wellness Works Support Group
DESCRIPTION:
URL:https://www.thriveserves.com/event/wellness-works-support-group/2026-12-04/
LOCATION:Warfield Community Center\, 113 Hode Road\, Warfield\, Kentucky\, 41267
END:VEVENT
BEGIN:VEVENT
DTSTART;TZID=UTC:20261211T140000
DTEND;TZID=UTC:20261211T140000
DTSTAMP:20260426T024654
CREATED:20251029T184632Z
LAST-MODIFIED:20260409T155521Z
UID:10001115-1796997600-1796997600@www.thriveserves.com
SUMMARY:Wellness Works Support Group
DESCRIPTION:
URL:https://www.thriveserves.com/event/wellness-works-support-group/2026-12-11/
LOCATION:Warfield Community Center\, 113 Hode Road\, Warfield\, Kentucky\, 41267
END:VEVENT
BEGIN:VEVENT
DTSTART;TZID=UTC:20261218T140000
DTEND;TZID=UTC:20261218T140000
DTSTAMP:20260426T024654
CREATED:20251029T184632Z
LAST-MODIFIED:20260409T155521Z
UID:10001116-1797602400-1797602400@www.thriveserves.com
SUMMARY:Wellness Works Support Group
DESCRIPTION:
URL:https://www.thriveserves.com/event/wellness-works-support-group/2026-12-18/
LOCATION:Warfield Community Center\, 113 Hode Road\, Warfield\, Kentucky\, 41267
END:VEVENT
BEGIN:VEVENT
DTSTART;TZID=UTC:20261225T140000
DTEND;TZID=UTC:20261225T140000
DTSTAMP:20260426T024654
CREATED:20251029T184632Z
LAST-MODIFIED:20260409T155521Z
UID:10001117-1798207200-1798207200@www.thriveserves.com
SUMMARY:Wellness Works Support Group
DESCRIPTION:
URL:https://www.thriveserves.com/event/wellness-works-support-group/2026-12-25/
LOCATION:Warfield Community Center\, 113 Hode Road\, Warfield\, Kentucky\, 41267
END:VEVENT
BEGIN:VEVENT
DTSTART;TZID=UTC:20270101T140000
DTEND;TZID=UTC:20270101T140000
DTSTAMP:20260426T024654
CREATED:20251029T184632Z
LAST-MODIFIED:20260409T155521Z
UID:10001118-1798812000-1798812000@www.thriveserves.com
SUMMARY:Wellness Works Support Group
DESCRIPTION:
URL:https://www.thriveserves.com/event/wellness-works-support-group/2027-01-01/
LOCATION:Warfield Community Center\, 113 Hode Road\, Warfield\, Kentucky\, 41267
END:VEVENT
BEGIN:VEVENT
DTSTART;TZID=UTC:20270108T140000
DTEND;TZID=UTC:20270108T140000
DTSTAMP:20260426T024654
CREATED:20251029T184632Z
LAST-MODIFIED:20260409T155521Z
UID:10001119-1799416800-1799416800@www.thriveserves.com
SUMMARY:Wellness Works Support Group
DESCRIPTION:
URL:https://www.thriveserves.com/event/wellness-works-support-group/2027-01-08/
LOCATION:Warfield Community Center\, 113 Hode Road\, Warfield\, Kentucky\, 41267
END:VEVENT
BEGIN:VEVENT
DTSTART;TZID=UTC:20270115T140000
DTEND;TZID=UTC:20270115T140000
DTSTAMP:20260426T024654
CREATED:20251029T184632Z
LAST-MODIFIED:20260409T155521Z
UID:10001120-1800021600-1800021600@www.thriveserves.com
SUMMARY:Wellness Works Support Group
DESCRIPTION:
URL:https://www.thriveserves.com/event/wellness-works-support-group/2027-01-15/
LOCATION:Warfield Community Center\, 113 Hode Road\, Warfield\, Kentucky\, 41267
END:VEVENT
BEGIN:VEVENT
DTSTART;TZID=UTC:20270122T140000
DTEND;TZID=UTC:20270122T140000
DTSTAMP:20260426T024654
CREATED:20251029T184632Z
LAST-MODIFIED:20260409T155521Z
UID:10001121-1800626400-1800626400@www.thriveserves.com
SUMMARY:Wellness Works Support Group
DESCRIPTION:
URL:https://www.thriveserves.com/event/wellness-works-support-group/2027-01-22/
LOCATION:Warfield Community Center\, 113 Hode Road\, Warfield\, Kentucky\, 41267
END:VEVENT
BEGIN:VEVENT
DTSTART;TZID=UTC:20270129T140000
DTEND;TZID=UTC:20270129T140000
DTSTAMP:20260426T024654
CREATED:20251029T184632Z
LAST-MODIFIED:20260409T155521Z
UID:10001122-1801231200-1801231200@www.thriveserves.com
SUMMARY:Wellness Works Support Group
DESCRIPTION:
URL:https://www.thriveserves.com/event/wellness-works-support-group/2027-01-29/
LOCATION:Warfield Community Center\, 113 Hode Road\, Warfield\, Kentucky\, 41267
END:VEVENT
BEGIN:VEVENT
DTSTART;TZID=UTC:20270205T140000
DTEND;TZID=UTC:20270205T140000
DTSTAMP:20260426T024654
CREATED:20251029T184632Z
LAST-MODIFIED:20260409T155521Z
UID:10001123-1801836000-1801836000@www.thriveserves.com
SUMMARY:Wellness Works Support Group
DESCRIPTION:
URL:https://www.thriveserves.com/event/wellness-works-support-group/2027-02-05/
LOCATION:Warfield Community Center\, 113 Hode Road\, Warfield\, Kentucky\, 41267
END:VEVENT
BEGIN:VEVENT
DTSTART;TZID=UTC:20270212T140000
DTEND;TZID=UTC:20270212T140000
DTSTAMP:20260426T024654
CREATED:20251029T184632Z
LAST-MODIFIED:20260409T155521Z
UID:10001124-1802440800-1802440800@www.thriveserves.com
SUMMARY:Wellness Works Support Group
DESCRIPTION:
URL:https://www.thriveserves.com/event/wellness-works-support-group/2027-02-12/
LOCATION:Warfield Community Center\, 113 Hode Road\, Warfield\, Kentucky\, 41267
END:VEVENT
BEGIN:VEVENT
DTSTART;TZID=UTC:20270219T140000
DTEND;TZID=UTC:20270219T140000
DTSTAMP:20260426T024654
CREATED:20251029T184632Z
LAST-MODIFIED:20260409T155521Z
UID:10001125-1803045600-1803045600@www.thriveserves.com
SUMMARY:Wellness Works Support Group
DESCRIPTION:
URL:https://www.thriveserves.com/event/wellness-works-support-group/2027-02-19/
LOCATION:Warfield Community Center\, 113 Hode Road\, Warfield\, Kentucky\, 41267
END:VEVENT
BEGIN:VEVENT
DTSTART;TZID=UTC:20270226T140000
DTEND;TZID=UTC:20270226T140000
DTSTAMP:20260426T024654
CREATED:20251029T184632Z
LAST-MODIFIED:20260409T155521Z
UID:10001126-1803650400-1803650400@www.thriveserves.com
SUMMARY:Wellness Works Support Group
DESCRIPTION:
URL:https://www.thriveserves.com/event/wellness-works-support-group/2027-02-26/
LOCATION:Warfield Community Center\, 113 Hode Road\, Warfield\, Kentucky\, 41267
END:VEVENT
BEGIN:VEVENT
DTSTART;TZID=UTC:20270305T140000
DTEND;TZID=UTC:20270305T140000
DTSTAMP:20260426T024654
CREATED:20251029T184632Z
LAST-MODIFIED:20260409T155521Z
UID:10001127-1804255200-1804255200@www.thriveserves.com
SUMMARY:Wellness Works Support Group
DESCRIPTION:
URL:https://www.thriveserves.com/event/wellness-works-support-group/2027-03-05/
LOCATION:Warfield Community Center\, 113 Hode Road\, Warfield\, Kentucky\, 41267
END:VEVENT
BEGIN:VEVENT
DTSTART;TZID=UTC:20270312T140000
DTEND;TZID=UTC:20270312T140000
DTSTAMP:20260426T024654
CREATED:20251029T184632Z
LAST-MODIFIED:20260409T155521Z
UID:10001128-1804860000-1804860000@www.thriveserves.com
SUMMARY:Wellness Works Support Group
DESCRIPTION:
URL:https://www.thriveserves.com/event/wellness-works-support-group/2027-03-12/
LOCATION:Warfield Community Center\, 113 Hode Road\, Warfield\, Kentucky\, 41267
END:VEVENT
BEGIN:VEVENT
DTSTART;TZID=UTC:20270319T140000
DTEND;TZID=UTC:20270319T140000
DTSTAMP:20260426T024654
CREATED:20251029T184632Z
LAST-MODIFIED:20260409T155521Z
UID:10001129-1805464800-1805464800@www.thriveserves.com
SUMMARY:Wellness Works Support Group
DESCRIPTION:
URL:https://www.thriveserves.com/event/wellness-works-support-group/2027-03-19/
LOCATION:Warfield Community Center\, 113 Hode Road\, Warfield\, Kentucky\, 41267
END:VEVENT
BEGIN:VEVENT
DTSTART;TZID=UTC:20270326T140000
DTEND;TZID=UTC:20270326T140000
DTSTAMP:20260426T024654
CREATED:20251029T184632Z
LAST-MODIFIED:20260409T155521Z
UID:10001130-1806069600-1806069600@www.thriveserves.com
SUMMARY:Wellness Works Support Group
DESCRIPTION:
URL:https://www.thriveserves.com/event/wellness-works-support-group/2027-03-26/
LOCATION:Warfield Community Center\, 113 Hode Road\, Warfield\, Kentucky\, 41267
END:VEVENT
BEGIN:VEVENT
DTSTART;TZID=UTC:20270402T140000
DTEND;TZID=UTC:20270402T140000
DTSTAMP:20260426T024654
CREATED:20251029T184632Z
LAST-MODIFIED:20260409T155521Z
UID:10001131-1806674400-1806674400@www.thriveserves.com
SUMMARY:Wellness Works Support Group
DESCRIPTION:
URL:https://www.thriveserves.com/event/wellness-works-support-group/2027-04-02/
LOCATION:Warfield Community Center\, 113 Hode Road\, Warfield\, Kentucky\, 41267
END:VEVENT
BEGIN:VEVENT
DTSTART;TZID=UTC:20270409T140000
DTEND;TZID=UTC:20270409T140000
DTSTAMP:20260426T024654
CREATED:20251029T184632Z
LAST-MODIFIED:20260409T155521Z
UID:10001132-1807279200-1807279200@www.thriveserves.com
SUMMARY:Wellness Works Support Group
DESCRIPTION:
URL:https://www.thriveserves.com/event/wellness-works-support-group/2027-04-09/
LOCATION:Warfield Community Center\, 113 Hode Road\, Warfield\, Kentucky\, 41267
END:VEVENT
END:VCALENDAR